View In: 
  ArcMap
  ArcGIS Explorer
  ArcGIS JavaScript
  Google Earth
  ArcGIS.com Map
  Bing Maps
(terms of use)
View Footprint In: 
  Google Earth
Service Description: 
Map Name: Layers
Legend 
All Layers and Tables 
Layers: 
Tables: 
Description: 
Copyright Text: 
Spatial Reference: 102100 (3857)
Single Fused Map Cache: true
Tile Info: 
- Height: 256
 
- Width: 256
 
- DPI: 96
 
- Levels of Detail: (# Levels: 12)
 
- 
Level ID: 0
[Start Tile,
End Tile]
Resolution: 152.874056570411
Scale: 577790.554289
 
- 
Level ID: 1
[Start Tile,
End Tile]
Resolution: 76.4370282850732
Scale: 288895.277144
 
- 
Level ID: 2
[Start Tile,
End Tile]
Resolution: 38.2185141425366
Scale: 144447.638572
 
- 
Level ID: 3
[Start Tile,
End Tile]
Resolution: 19.1092570712683
Scale: 72223.819286
 
- 
Level ID: 4
[Start Tile,
End Tile]
Resolution: 9.55462853563415
Scale: 36111.909643
 
- 
Level ID: 5
[Start Tile,
End Tile]
Resolution: 4.77731426794937
Scale: 18055.954822
 
- 
Level ID: 6
[Start Tile,
End Tile]
Resolution: 2.38865713397468
Scale: 9027.977411
 
- 
Level ID: 7
[Start Tile,
End Tile]
Resolution: 1.19432856685505
Scale: 4513.988705
 
- 
Level ID: 8
[Start Tile,
End Tile]
Resolution: 0.597164283559817
Scale: 2256.994353
 
- 
Level ID: 9
[Start Tile,
End Tile]
Resolution: 0.298582141647617
Scale: 1128.497176
 
- 
Level ID: 10
[Start Tile,
End Tile]
Resolution: 0.149291070823808
Scale: 564.248588
 
- 
Level ID: 11
[Start Tile,
End Tile]
Resolution: 0.0746455354119042
Scale: 282.124294
 
- Format: PNG32
 
- Compression Quality: 0
 
- 
Origin: 
X: -20037508.342787
Y: 20037508.342787
 
- Spatial Reference: 102100 (3857)
 
Initial Extent: 
XMin: -9026350.26342094
YMin: 4703282.70622065
XMax: -8899324.47377906
YMax: 4749108.465775
Spatial Reference: 102100 (3857)
Full Extent: 
XMin: -9245829.6389
YMin: 4438992.9942
XMax: -8584915.8249
YMax: 4967662.6834
Spatial Reference: 102100 (3857)
Units: esriMeters
Supported Image Format Types: PNG32,PNG24,PNG,JPG,DIB,TIFF,EMF,PS,PDF,GIF,SVG,SVGZ,BMP
Document Info: 
- Title: 
 
- Author: 
 
- Comments: 
 
- Subject: 
 
- Category: 
 
- Keywords: 
 
- AntialiasingMode: None
 
- TextAntialiasingMode: Force
 
Supported Interfaces: 
  REST
  SOAP
Supported Operations: 
  Export Map
  Identify
  Find
  Generate KML