View In: 
  ArcMap
  ArcGIS Explorer
  ArcGIS JavaScript
  Google Earth
  ArcGIS.com Map
View Footprint In: 
  Google Earth
Service Description: 
Map Name: Layers
Legend 
All Layers and Tables 
Layers: 
- 7 (0)
 
- 6 (2)
 
- 5 (4)
 
- 4 (6)
 
- 3 (8)
 
- 2 (10)
 
- 1 (12)
 
Tables: 
Description: 
Copyright Text: 
Spatial Reference: 26917
Single Fused Map Cache: true
Tile Info: 
- Height: 256
 
- Width: 256
 
- DPI: 96
 
- Levels of Detail: (# Levels: 10)
 
- 
Level ID: 0
[Start Tile,
End Tile]
Resolution: 152.874056570411
Scale: 577790.554289
 
- 
Level ID: 1
[Start Tile,
End Tile]
Resolution: 76.4370282850732
Scale: 288895.277144
 
- 
Level ID: 2
[Start Tile,
End Tile]
Resolution: 38.2185141425366
Scale: 144447.638572
 
- 
Level ID: 3
[Start Tile,
End Tile]
Resolution: 19.1092570712683
Scale: 72223.819286
 
- 
Level ID: 4
[Start Tile,
End Tile]
Resolution: 9.55462853563415
Scale: 36111.909643
 
- 
Level ID: 5
[Start Tile,
End Tile]
Resolution: 4.77731426794937
Scale: 18055.954822
 
- 
Level ID: 6
[Start Tile,
End Tile]
Resolution: 2.38865713397468
Scale: 9027.977411
 
- 
Level ID: 7
[Start Tile,
End Tile]
Resolution: 1.19432856685505
Scale: 4513.988705
 
- 
Level ID: 8
[Start Tile,
End Tile]
Resolution: 0.597164283559817
Scale: 2256.994353
 
- 
Level ID: 9
[Start Tile,
End Tile]
Resolution: 0.298582141647617
Scale: 1128.497176
 
- Format: PNG32
 
- Compression Quality: 0
 
- 
Origin: 
X: -20037508.342787
Y: 20037508.342787
 
- Spatial Reference: 26917
 
Initial Extent: 
XMin: 495877.348081923
YMin: 4324141.75617066
XMax: 554879.549419659
YMax: 4373566.02168585
Spatial Reference: 26917
Full Extent: 
XMin: 507766.295110615
YMin: 4327118.44132242
XMax: 540707.167777512
YMax: 4366842.17375726
Spatial Reference: 26917
Units: esriMeters
Supported Image Format Types: PNG32,PNG24,PNG,JPG,DIB,TIFF,EMF,PS,PDF,GIF,SVG,SVGZ,BMP
Document Info: 
- Title: 
 
- Author: 
 
- Comments: 
 
- Subject: 
 
- Category: 
 
- Keywords: 
 
- AntialiasingMode: None
 
- TextAntialiasingMode: Force
 
Supported Interfaces: 
  REST
  SOAP
Supported Operations: 
  Export Map
  Identify
  Find
  Generate KML